BEGIN:VCALENDAR
PRODID;X-RICAL-TZSOURCE=TZINFO:-//Koalagator//EN
CALSCALE:GREGORIAN
X-WR-CALNAME:Seedbomb
METHOD:PUBLISH
VERSION:2.0
BEGIN:VEVENT
CREATED;VALUE=DATE-TIME:20260419T034552Z
DTEND;VALUE=DATE:20260513
DTSTART;VALUE=DATE:20260421
DTSTAMP;VALUE=DATE-TIME:20260419T034552Z
LAST-MODIFIED;VALUE=DATE-TIME:20260419T034552Z
UID:https://seedbomb.au/events/387
DESCRIPTION:This event runs from Tuesday\, April 21\, 2026 at 6pm through
  Tuesday\, May 12\, 2026 at 8:30pm.\n\nDescription:\nLearn to support ur
 ban nature and meet like-minded community members.&#13\;\n&#13\;\nJoin u
 s and become an Urban Nature Steward by learning how to support and care
  for nature at home\, and across your urban environment.&#13\;\n&#13\;\n
 Our cities and urban places have become important habitat for many of ou
 r Australian native species. There are things we can all do to live more
  harmoniously with local species and enrich our lives at the same time.&
 #13\;\n&#13\;\nSupported by The City of Adelaide\, this four-week course
  will connect you with people in your local area and communities\, share
  environmental concepts and techniques that are relevant to our urban co
 ntext\, inspire and empower you with environmental knowledge\, and motiv
 ate you to try new things and set goals with urban nature in mind. &#13\
 ;\n&#13\;\nCourse topics include:&#13\;\n&#13\;\n    Making wilder urban
  places &#13\;\n&#13\;\n    Steps to being an urban nature steward&#13\;
 \n&#13\;\n    Promoting urban biodiversity with local native species&#13
 \;\n&#13\;\n    Cooling our urban spaces and why it's important&#13\;\n&
 #13\;\n    How plants and gardens can be used to cool your home&#13\;\n&
 #13\;\n    Gardening for wildlife and for food&#13\;\n&#13\;\n    Ways t
 o get involved in community efforts&#13\;\n&#13\;\n    How to plan for n
 ature at your place&#13\;\n&#13\;\nCourse details: &#13\;\nWhen: Tuesday
  evenings&#13\;\nDuration: Five sessions across four weeks (There will b
 e a field trip on the Saturday of week 3- details to be confirmed in Wee
 k 1) &#13\;\nTime: 6-8pm&#13\;\nWhere: Minor Works Building Community Ce
 ntre (Adelaide CBD)&#13\;\nCost: $30 per person&#13\;\n&#13\;\nPlease em
 ail any questions to Rebecca.Rowe3@sa.gov.au\n\nTags: Skills Training\, 
 Sustainability\, Nature\, Urban Gardening\, Green Adelaide\n\nImported f
 rom: https://seedbomb.au/events/387
URL:https://events.humanitix.com/urban-nature-stewards
SUMMARY:Urban Nature Stewards: Living cooler\, greener and wilder for nat
 ure
LOCATION:22 Stamford Ct: false
SEQUENCE:1
END:VEVENT
END:VCALENDAR
