BEGIN:VCALENDAR
PRODID;X-RICAL-TZSOURCE=TZINFO:-//Koalagator//EN
CALSCALE:GREGORIAN
X-WR-CALNAME:Seedbomb
METHOD:PUBLISH
VERSION:2.0
BEGIN:VTIMEZONE
TZID;X-RICAL-TZSOURCE=TZINFO:Australia/Adelaide
BEGIN:STANDARD
DTSTART:20260405T030000
RDATE:20260405T030000
TZOFFSETFROM:+1030
TZOFFSETTO:+0930
TZNAME:ACST
END:STANDARD
END:VTIMEZONE
BEGIN:VEVENT
CREATED;VALUE=DATE-TIME:20260421T110824Z
DTEND;TZID=Australia/Adelaide;VALUE=DATE-TIME:20260426T180000
DTSTART;TZID=Australia/Adelaide;VALUE=DATE-TIME:20260426T140000
DTSTAMP;VALUE=DATE-TIME:20260421T110824Z
LAST-MODIFIED;VALUE=DATE-TIME:20260421T110824Z
UID:https://seedbomb.au/events/389
DESCRIPTION:please join the Pirltawadli Collective in Protecting our Sacr
 ed Place Our Cultural History Our Animals Our Trees Our Land &amp\; Prec
 ious Water from the LIVE GOLF Development on Sacred Kaurna Land &amp\; t
 he South Australian Government!.&#13\;\n&#13\;\nWe will be giving an inf
 ormation session about the sacred place known as Pirltawadli &amp\; it's
  Cultural significance to the Kaurna people &amp\; our future generation
 s to come. we will have our elders open this event &amp\; speakers to fo
 llow as well as a cultural Kaurna ceremony to acknowledge our ancestors 
 &amp\; those who stand with us. We will also have water &amp\; snacks bu
 t please feel free to bring your own as well as any folding chairs you n
 eed.&#13\;\nthankyou on behalf of the Pirltawadli Collective for your su
 pport.&#13\;\n&#13\;\nif you have any enquiries please contact Natasha W
 anganeen via nwanganeen@yahoo.com or this event page or Janette Milera v
 ia Janettemilera@gmail.com or through the Deadlyyarningssouthaustralia p
 age on fb\n\nTags: First Nations\n\nImported from: https://seedbomb.au/e
 vents/389
URL:https://www.facebook.com/share/1CUUsenzBz/
SUMMARY:Pirltawadli Sunset Ceremony
SEQUENCE:1
END:VEVENT
END:VCALENDAR
